BEGIN:VCALENDAR
VERSION:2.0
PRODID:-//ExpressionEngine Easy iCalendar plugin//NONSGML v2.0.0//EN
X-WR-TIMEZONE:America/Denver
X-WR-CALNAME:Upcoming Auctions
BEGIN:VEVENT
UID:44797
DTSTAMP:20200101T000000
DTSTART:20200101T000000
DTEND:20200114T100000
SUMMARY:Monthly Equipment - Jan 14th
LOCATION:Online\, Sturgis\, SD 57785\, US
DESCRIPTION:Consigning with us is easy.  Contact Jeff today and find ou
 t how.
URL:https://www.sturgisauctions.com/auctions/detail/bw44797
SEQUENCE:1
END:VEVENT
END:VCALENDAR