BEGIN:VCALENDAR
VERSION:2.0
PRODID:-//ExpressionEngine Easy iCalendar plugin//NONSGML v2.0.0//EN
X-WR-TIMEZONE:America/Denver
X-WR-CALNAME:Upcoming Auctions
BEGIN:VEVENT
UID:35774
DTSTAMP:20190501T000000
DTSTART:20190501T000000
DTEND:20190513T100000
SUMMARY:Hart Ranch Annual RV Online Auction -May 13th
LOCATION:Online\, Sturgis\, SD 57785\, US
DESCRIPTION:Kickoff summer right with the purchase of a great RV or camp
 er from the Hart Ranch annual online-only RV auction!  Have
  one to sell?  Stop paying storage and get it on the auctio
 n.  Email photos and info to: Auctions@SturgisSD.com
URL:https://www.sturgisauctions.com/auctions/detail/hart-ranch-a
 nnual-rv-online-auction-may-13th-bw35774
SEQUENCE:1
END:VEVENT
END:VCALENDAR