BEGIN:VCALENDAR
VERSION:2.0
PRODID:-//ExpressionEngine Easy iCalendar plugin//NONSGML v2.0.0//EN
X-WR-TIMEZONE:America/Denver
X-WR-CALNAME:Upcoming Auctions
BEGIN:VEVENT
UID:35506
DTSTAMP:20190301T000000
DTSTART:20190301T000000
DTEND:20190312T100000
SUMMARY:Monthly Equipment -March 12th
LOCATION:Online\, Sturgis\, SD 57785\, US
DESCRIPTION:Monthly Equipment Online-Only Auctions are the second Tuesda
 y of each month with bidding starting on the 1st.  Email ph
 otos if you would like to consign with us: Auctions@SturgisS
 D.com  We look forward to hearing from you!  
URL:https://www.sturgisauctions.com/auctions/detail/monthly-equi
 pment-march-12th-bw35506
SEQUENCE:1
END:VEVENT
END:VCALENDAR